BEGIN:VCALENDAR
VERSION:2.0
PRODID:-//Markt Marktbergel - ECPv6.15.20//NONSGML v1.0//EN
CALSCALE:GREGORIAN
METHOD:PUBLISH
X-WR-CALNAME:Markt Marktbergel
X-ORIGINAL-URL:https://marktbergel.de
X-WR-CALDESC:Veranstaltungen für Markt Marktbergel
REFRESH-INTERVAL;VALUE=DURATION:PT1H
X-Robots-Tag:noindex
X-PUBLISHED-TTL:PT1H
BEGIN:VTIMEZONE
TZID:Europe/Berlin
BEGIN:DAYLIGHT
TZOFFSETFROM:+0100
TZOFFSETTO:+0200
TZNAME:CEST
DTSTART:20250330T010000
END:DAYLIGHT
BEGIN:STANDARD
TZOFFSETFROM:+0200
TZOFFSETTO:+0100
TZNAME:CET
DTSTART:20251026T010000
END:STANDARD
BEGIN:DAYLIGHT
TZOFFSETFROM:+0100
TZOFFSETTO:+0200
TZNAME:CEST
DTSTART:20260329T010000
END:DAYLIGHT
BEGIN:STANDARD
TZOFFSETFROM:+0200
TZOFFSETTO:+0100
TZNAME:CET
DTSTART:20261025T010000
END:STANDARD
BEGIN:DAYLIGHT
TZOFFSETFROM:+0100
TZOFFSETTO:+0200
TZNAME:CEST
DTSTART:20270328T010000
END:DAYLIGHT
BEGIN:STANDARD
TZOFFSETFROM:+0200
TZOFFSETTO:+0100
TZNAME:CET
DTSTART:20271031T010000
END:STANDARD
END:VTIMEZONE
BEGIN:VEVENT
DTSTART;TZID=Europe/Berlin:20260423T193000
DTEND;TZID=Europe/Berlin:20260423T213000
DTSTAMP:20260423T104337
CREATED:20260421T063420Z
LAST-MODIFIED:20260421T063420Z
UID:7799-1776972600-1776979800@marktbergel.de
SUMMARY:Einladung  zur 64. Sitzung des Gemeinderates Marktbergel
DESCRIPTION:Einladung\nzur 64. Sitzung des Gemeinderates Marktbergel\nam Donnerstag\, dem 23.04.2026 um 19:30 Uhr\nim Rathaussaal Marktbergel \nÖffentliche Sitzung: \n\nGenehmigung der Sitzungsniederschrift vom 12.03.2026\nErlass der Haushaltssatzung und Festsetzung des Haushalts-\, Finanz-\, Stellen- und Wirtschaftsplans des Marktes Marktbergel für das Haushaltsjahr 2026\nFestsetzung des Investitionsprogramms für die Jahre 2026 – 2030 des Marktes Marktbergel\nJahresrechnung 2022\na) Behandlung der Ergebnisse der örtlichen Rechnungsprüfung\nb) Feststellung der Jahresrechnung 2022\nc) Entlastungsbeschluss zur Jahresrechnung 2022\nJahresrechnung 2023\na) Behandlung der Ergebnisse der örtlichen Rechnungsprüfung\nb) Feststellung der Jahresrechnung 2023\nc) Entlastungsbeschluss zur Jahresrechnung 2023\nNeugestaltung eines Teilbereichs der Kirchstraße und des Roßmühlwegs; Vergabe der Beweissicherung\nBauantrag; Abriss bestehender Ställe\, Umnutzung landwirtschaftlicher Gebäude zu Hobbywerkstatt\, Büro und Abstellraum\, Fl.Nr. 53\, Gemarkung Ottenhofen\nBauantrag; Umnutzung landwirtschaftlicher Gebäude zu Hobbywerkstatt und Partyraum\, Garagen und Abstellräumen\, Fl.Nr. 53/2\, Gemarkung Ottenhofen\nBauantrag; Errichtung eines Carports\, Fl.Nr. 244/2\, Gemarkung Marktbergel\nInformationen des Bürgermeisters\n\n  \nEin nicht öffentlicher Sitzungsteil schließt sich an die öffentliche Sitzung an. \n  \nDr. Kern\nErster Bürgermeister \n  \nEinladung zur 64. Sitzung des GR Marktbergel am 23.04.2026
URL:https://marktbergel.de/event/einladung-zur-64-sitzung-des-gemeinderates-marktbergel/
LOCATION:Rathaus
ATTACH;FMTTYPE=image/png:https://marktbergel.de/wp-content/uploads/2023/12/Gemini_Generated_Image_1932ec1932ec1932.png
ORGANIZER;CN="Gemeinde Marktbergel":MAILTO:info@marktbergel.de
END:VEVENT
END:VCALENDAR